BEGIN:VCALENDAR
VERSION:2.0
PRODID:-//Mairie de Villiers Saint Frédéric - ECPv6.15.18//NONSGML v1.0//EN
CALSCALE:GREGORIAN
METHOD:PUBLISH
X-WR-CALNAME:Mairie de Villiers Saint Frédéric
X-ORIGINAL-URL:https://www.mairie-villiers-saint-frederic.fr
X-WR-CALDESC:Évènements pour Mairie de Villiers Saint Frédéric
REFRESH-INTERVAL;VALUE=DURATION:PT1H
X-Robots-Tag:noindex
X-PUBLISHED-TTL:PT1H
BEGIN:VTIMEZONE
TZID:Europe/Paris
BEGIN:DAYLIGHT
TZOFFSETFROM:+0100
TZOFFSETTO:+0200
TZNAME:CEST
DTSTART:20250330T010000
END:DAYLIGHT
BEGIN:STANDARD
TZOFFSETFROM:+0200
TZOFFSETTO:+0100
TZNAME:CET
DTSTART:20251026T010000
END:STANDARD
BEGIN:DAYLIGHT
TZOFFSETFROM:+0100
TZOFFSETTO:+0200
TZNAME:CEST
DTSTART:20260329T010000
END:DAYLIGHT
BEGIN:STANDARD
TZOFFSETFROM:+0200
TZOFFSETTO:+0100
TZNAME:CET
DTSTART:20261025T010000
END:STANDARD
BEGIN:DAYLIGHT
TZOFFSETFROM:+0100
TZOFFSETTO:+0200
TZNAME:CEST
DTSTART:20270328T010000
END:DAYLIGHT
BEGIN:STANDARD
TZOFFSETFROM:+0200
TZOFFSETTO:+0100
TZNAME:CET
DTSTART:20271031T010000
END:STANDARD
END:VTIMEZONE
BEGIN:VEVENT
DTSTART;TZID=Europe/Paris:20260323T080000
DTEND;TZID=Europe/Paris:20260323T170000
DTSTAMP:20260423T003556
CREATED:20260323T151115Z
LAST-MODIFIED:20260323T151145Z
UID:12326-1774252800-1774285200@www.mairie-villiers-saint-frederic.fr
SUMMARY:Conseil Municipal
DESCRIPTION:La prochaine réunion du Conseil municipal aura lieu le vendredi 27 mars à partir de 19h dans la salle du Pressoir. \nLe conseil se réunira pour installer les nouveaux membres et d’élire le nouveau maire de Villiers-Saint-Frédéric. \nOrdre du jour 
URL:https://www.mairie-villiers-saint-frederic.fr/evenement/conseil-municipal/
CATEGORIES:Conseil Municipal
ATTACH;FMTTYPE=image/jpeg:https://www.mairie-villiers-saint-frederic.fr/wp-content/uploads/2022/03/Conseil-municipal.jpg
END:VEVENT
END:VCALENDAR