BEGIN:VCALENDAR
VERSION:2.0
PRODID:-//Mairie de Villiers Saint Frédéric - ECPv6.15.18//NONSGML v1.0//EN
CALSCALE:GREGORIAN
METHOD:PUBLISH
X-WR-CALNAME:Mairie de Villiers Saint Frédéric
X-ORIGINAL-URL:https://www.mairie-villiers-saint-frederic.fr
X-WR-CALDESC:Évènements pour Mairie de Villiers Saint Frédéric
REFRESH-INTERVAL;VALUE=DURATION:PT1H
X-Robots-Tag:noindex
X-PUBLISHED-TTL:PT1H
BEGIN:VTIMEZONE
TZID:Europe/Paris
BEGIN:DAYLIGHT
TZOFFSETFROM:+0100
TZOFFSETTO:+0200
TZNAME:CEST
DTSTART:20250330T010000
END:DAYLIGHT
BEGIN:STANDARD
TZOFFSETFROM:+0200
TZOFFSETTO:+0100
TZNAME:CET
DTSTART:20251026T010000
END:STANDARD
BEGIN:DAYLIGHT
TZOFFSETFROM:+0100
TZOFFSETTO:+0200
TZNAME:CEST
DTSTART:20260329T010000
END:DAYLIGHT
BEGIN:STANDARD
TZOFFSETFROM:+0200
TZOFFSETTO:+0100
TZNAME:CET
DTSTART:20261025T010000
END:STANDARD
BEGIN:DAYLIGHT
TZOFFSETFROM:+0100
TZOFFSETTO:+0200
TZNAME:CEST
DTSTART:20270328T010000
END:DAYLIGHT
BEGIN:STANDARD
TZOFFSETFROM:+0200
TZOFFSETTO:+0100
TZNAME:CET
DTSTART:20271031T010000
END:STANDARD
END:VTIMEZONE
BEGIN:VEVENT
DTSTART;TZID=Europe/Paris:20260422T193000
DTEND;TZID=Europe/Paris:20260422T210000
DTSTAMP:20260422T212746
CREATED:20260415T071419Z
LAST-MODIFIED:20260416T115925Z
UID:12502-1776886200-1776891600@www.mairie-villiers-saint-frederic.fr
SUMMARY:Conseil municipal du 22 avril
DESCRIPTION:La prochaine réunion du Conseil municipal aura lieu le mercredi 22 avril à partir de 19h30 dans la salle du Conseil municipal. \nLa séance est ouverte à tous\, vous pouvez consulter l’ordre du jour ici.
URL:https://www.mairie-villiers-saint-frederic.fr/evenement/conseil-municipal-du-22-avril/
LOCATION:Mairie\, 2 rue Charles De Gaulle\, Villiers Saint Frédéric\, 78640
ATTACH;FMTTYPE=image/jpeg:https://www.mairie-villiers-saint-frederic.fr/wp-content/uploads/2023/09/Conseil-municipal-sans-oj.jpg
END:VEVENT
END:VCALENDAR